BEGIN:VCALENDAR
VERSION:2.0
PRODID:xn--grnes-doppeldorf-kzb.de
METHOD:PUBLISH
BEGIN:VTIMEZONE
TZID:Europe/Berlin
X-LIC-LOCATION:Europe/Berlin
BEGIN:DAYLIGHT
TZOFFSETFROM:+0100
TZOFFSETTO:+0200
TZNAME:CEST
DTSTART:19700329T020000
RRULE:FREQ=YEARLY;INTERVAL=1;BYDAY=-1SU;BYMONTH=3
END:DAYLIGHT
BEGIN:STANDARD
TZOFFSETFROM:+0200
TZOFFSETTO:+0100
TZNAME:CET
DTSTART:19701025T030000
RRULE:FREQ=YEARLY;INTERVAL=1;BYDAY=-1SU;BYMONTH=10
END:STANDARD
END:VTIMEZONE
BEGIN:VEVENT
UID:ceabf3e237ce1d7e347a7ce0b6cca939@xn--grnes-doppeldorf-kzb.de
URL;VALUE=URI:https://xn--grnes-doppeldorf-kzb.de/termine/sitzung-der-gem
 eindevertretung-15/
LOCATION:
SUMMARY:Sitzung der Gemeindevertretung
DESCRIPTION;ALTREP="data:text/html,%0A%3Cp%3EMehr%20Informationen%20unter
 %20%3Ca%20href%3D%22http%3A%2F%2Fwww.doppeldorf.de%22%3Ewww.doppeldorf.de
 %3C%2Fa%3E%3C%2Fp%3E%0A":Mehr Informationen unter www.doppeldorf.de
CLASS:PUBLIC
DTSTART;TZID=Europe/Berlin:20260423T193000
DTEND;TZID=Europe/Berlin:20260423T203000
DTSTAMP:20260421T132122
END:VEVENT
BEGIN:VEVENT
UID:55bc968e7174375c68eaa738057073dd@xn--grnes-doppeldorf-kzb.de
URL;VALUE=URI:https://xn--grnes-doppeldorf-kzb.de/termine/sitzung-des-ort
 sverbandes-17/
LOCATION:
SUMMARY:Sitzung des Ortsverbandes
DESCRIPTION;ALTREP="data:text/html,%0A%3Cp%3EOrt%20bitte%20%C3%BCber%20da
 s%20Kontaktformular%20erfragen%3C%2Fp%3E%0A":Ort bitte über das Kontaktf
 ormular erfragen
CLASS:PUBLIC
DTSTART;TZID=Europe/Berlin:20260518T190000
DTEND;TZID=Europe/Berlin:20260518T200000
DTSTAMP:20260421T132122
END:VEVENT
BEGIN:VEVENT
UID:313256d73b6023961e0508e3346e258d@xn--grnes-doppeldorf-kzb.de
URL;VALUE=URI:https://xn--grnes-doppeldorf-kzb.de/termine/sitzung-der-gem
 eindevertretung-16/
LOCATION:
SUMMARY:Sitzung der Gemeindevertretung
DESCRIPTION;ALTREP="data:text/html,%0A%3Cp%3EMehr%20Informationen%20unter
 %20%3Ca%20href%3D%22http%3A%2F%2Fwww.doppeldorf.de%22%3Ewww.doppeldorf.de
 %3C%2Fa%3E%3C%2Fp%3E%0A":Mehr Informationen unter www.doppeldorf.de
CLASS:PUBLIC
DTSTART;TZID=Europe/Berlin:20260521T193000
DTEND;TZID=Europe/Berlin:20260521T203000
DTSTAMP:20260421T132122
END:VEVENT
BEGIN:VEVENT
UID:4f4dcfb619f47dc074001e69c9d94210@xn--grnes-doppeldorf-kzb.de
URL;VALUE=URI:https://xn--grnes-doppeldorf-kzb.de/termine/sitzung-des-ort
 sverbandes-18/
LOCATION:
SUMMARY:Sitzung des Ortsverbandes
DESCRIPTION;ALTREP="data:text/html,%0A%3Cp%3EOrt%20bitte%20%C3%BCber%20da
 s%20Kontaktformular%20erfragen%3C%2Fp%3E%0A":Ort bitte über das Kontaktf
 ormular erfragen
CLASS:PUBLIC
DTSTART;TZID=Europe/Berlin:20260615T190000
DTEND;TZID=Europe/Berlin:20260615T200000
DTSTAMP:20260421T132122
END:VEVENT
BEGIN:VEVENT
UID:1ec602b29b313d5f283f33b133228315@xn--grnes-doppeldorf-kzb.de
URL;VALUE=URI:https://xn--grnes-doppeldorf-kzb.de/termine/sitzung-der-gem
 eindevertretung-17/
LOCATION:
SUMMARY:Sitzung der Gemeindevertretung
DESCRIPTION;ALTREP="data:text/html,%0A%3Cp%3EMehr%20Informationen%20unter
 %20%3Ca%20href%3D%22http%3A%2F%2Fwww.doppeldorf.de%22%3Ewww.doppeldorf.de
 %3C%2Fa%3E%3C%2Fp%3E%0A":Mehr Informationen unter www.doppeldorf.de
CLASS:PUBLIC
DTSTART;TZID=Europe/Berlin:20260618T193000
DTEND;TZID=Europe/Berlin:20260618T203000
DTSTAMP:20260421T132122
END:VEVENT
BEGIN:VEVENT
UID:16d39cc4234eea063f620f610d629d9f@xn--grnes-doppeldorf-kzb.de
URL;VALUE=URI:https://xn--grnes-doppeldorf-kzb.de/termine/sitzung-des-kre
 istages-5/
LOCATION:
SUMMARY:Sitzung des Kreistages
DESCRIPTION;ALTREP="data:text/html,%0A%3Cp%3EKreiskulturhaus%20Seelow%3C%
 2Fp%3E%0A":Kreiskulturhaus Seelow
CLASS:PUBLIC
DTSTART;TZID=Europe/Berlin:20260624T170000
DTEND;TZID=Europe/Berlin:20260624T180000
DTSTAMP:20260421T132122
END:VEVENT
BEGIN:VEVENT
UID:62d3aaa661e8034a8a599b4a04393492@xn--grnes-doppeldorf-kzb.de
URL;VALUE=URI:https://xn--grnes-doppeldorf-kzb.de/termine/strandbadfest-a
 m-boetzsee/
LOCATION:
SUMMARY:Strandbadfest am Bötzsee
DESCRIPTION;ALTREP="data:text/html,%0A%3Cp%3EMehr%20Informationen%20unter
 %20%3Ca%20href%3D%22http%3A%2F%2Fwww.doppeldorf.de%22%3Ewww.doppeldorf.de
 %3C%2Fa%3E%3C%2Fp%3E%0A":Mehr Informationen unter www.doppeldorf.de
CLASS:PUBLIC
DTSTART;TZID=Europe/Berlin:20260703T100000
DTEND;TZID=Europe/Berlin:20260703T220000
DTSTAMP:20260421T132122
END:VEVENT
BEGIN:VEVENT
UID:3969866f82768d4c83e187891110460b@xn--grnes-doppeldorf-kzb.de
URL;VALUE=URI:https://xn--grnes-doppeldorf-kzb.de/termine/sitzung-des-ort
 sverbandes-19/
LOCATION:
SUMMARY:Sitzung des Ortsverbandes
DESCRIPTION;ALTREP="data:text/html,%0A%3Cp%3EOrt%20bitte%20%C3%BCber%20da
 s%20Kontaktformular%20erfragen%3C%2Fp%3E%0A":Ort bitte über das Kontaktf
 ormular erfragen
CLASS:PUBLIC
DTSTART;TZID=Europe/Berlin:20260713T190000
DTEND;TZID=Europe/Berlin:20260713T200000
DTSTAMP:20260421T132122
END:VEVENT
BEGIN:VEVENT
UID:f093f7bb86243828f896add9bd675539@xn--grnes-doppeldorf-kzb.de
URL;VALUE=URI:https://xn--grnes-doppeldorf-kzb.de/termine/sitzung-der-gem
 eindevertretung-18/
LOCATION:
SUMMARY:Sitzung der Gemeindevertretung
DESCRIPTION;ALTREP="data:text/html,%0A%3Cp%3EMehr%20Informationen%20unter
 %20%3Ca%20href%3D%22http%3A%2F%2Fwww.doppeldorf.de%22%3Ewww.doppeldorf.de
 %3C%2Fa%3E%3C%2Fp%3E%0A":Mehr Informationen unter www.doppeldorf.de
CLASS:PUBLIC
DTSTART;TZID=Europe/Berlin:20260716T193000
DTEND;TZID=Europe/Berlin:20260716T203000
DTSTAMP:20260421T132122
END:VEVENT
BEGIN:VEVENT
UID:1b17180d1dd5316a63223727ff7c53ad@xn--grnes-doppeldorf-kzb.de
URL;VALUE=URI:https://xn--grnes-doppeldorf-kzb.de/termine/sitzung-des-kre
 istages-6/
LOCATION:
SUMMARY:Sitzung des Kreistages
DESCRIPTION;ALTREP="data:text/html,%0A%3Cp%3EKreiskulturhaus%20Seelow%3C%
 2Fp%3E%0A":Kreiskulturhaus Seelow
CLASS:PUBLIC
DTSTART;TZID=Europe/Berlin:20260909T170000
DTEND;TZID=Europe/Berlin:20260909T180000
DTSTAMP:20260421T132122
END:VEVENT
BEGIN:VEVENT
UID:81128c036face9dd9ca5372c154c2a40@xn--grnes-doppeldorf-kzb.de
URL;VALUE=URI:https://xn--grnes-doppeldorf-kzb.de/termine/dorfangerfest-i
 n-petershagen-2/
LOCATION:
SUMMARY:Dorfangerfest in Petershagen
DESCRIPTION;ALTREP="data:text/html,%0A%3Cp%3EMehr%20Informationen%20unter
 %20%3Ca%20href%3D%22http%3A%2F%2Fwww.doppeldorf.de%22%3Ewww.doppeldorf.de
 %3C%2Fa%3E%3C%2Fp%3E%0A":Mehr Informationen unter www.doppeldorf.de
CLASS:PUBLIC
DTSTART;TZID=Europe/Berlin:20260913T120000
DTEND;TZID=Europe/Berlin:20260913T130000
DTSTAMP:20260421T132122
END:VEVENT
BEGIN:VEVENT
UID:3ffb7f1375f2838eb1d4884391cc0893@xn--grnes-doppeldorf-kzb.de
URL;VALUE=URI:https://xn--grnes-doppeldorf-kzb.de/termine/sitzung-des-ort
 sverbandes-20/
LOCATION:
SUMMARY:Sitzung des Ortsverbandes
DESCRIPTION;ALTREP="data:text/html,%0A%3Cp%3EOrt%20bitte%20%C3%BCber%20da
 s%20Kontaktformular%20erfragen%3C%2Fp%3E%0A":Ort bitte über das Kontaktf
 ormular erfragen
CLASS:PUBLIC
DTSTART;TZID=Europe/Berlin:20260914T190000
DTEND;TZID=Europe/Berlin:20260914T200000
DTSTAMP:20260421T132122
END:VEVENT
BEGIN:VEVENT
UID:d9108ef31bdace1b7c7f937009a3a6bd@xn--grnes-doppeldorf-kzb.de
URL;VALUE=URI:https://xn--grnes-doppeldorf-kzb.de/termine/sitzung-der-gem
 eindevertretung-19/
LOCATION:
SUMMARY:Sitzung der Gemeindevertretung
DESCRIPTION;ALTREP="data:text/html,%0A%3Cp%3EMehr%20Informationen%20unter
 %20%3Ca%20href%3D%22http%3A%2F%2Fwww.doppeldorf.de%22%3Ewww.doppeldorf.de
 %3C%2Fa%3E%3C%2Fp%3E%0A":Mehr Informationen unter www.doppeldorf.de
CLASS:PUBLIC
DTSTART;TZID=Europe/Berlin:20260917T193000
DTEND;TZID=Europe/Berlin:20260917T203000
DTSTAMP:20260421T132122
END:VEVENT
BEGIN:VEVENT
UID:d5c345020b09f867ecdcfff31c0d768b@xn--grnes-doppeldorf-kzb.de
URL;VALUE=URI:https://xn--grnes-doppeldorf-kzb.de/termine/sitzung-des-ort
 sverbandes-21/
LOCATION:
SUMMARY:Sitzung des Ortsverbandes
DESCRIPTION;ALTREP="data:text/html,%0A%3Cp%3EOrt%20bitte%20%C3%BCber%20da
 s%20Kontaktformular%20erfragen%3C%2Fp%3E%0A":Ort bitte über das Kontaktf
 ormular erfragen
CLASS:PUBLIC
DTSTART;TZID=Europe/Berlin:20261012T190000
DTEND;TZID=Europe/Berlin:20261012T200000
DTSTAMP:20260421T132122
END:VEVENT
BEGIN:VEVENT
UID:d172afc2cfb97555000cf0be5bcadace@xn--grnes-doppeldorf-kzb.de
URL;VALUE=URI:https://xn--grnes-doppeldorf-kzb.de/termine/sitzung-der-gem
 eindevertretung-20/
LOCATION:
SUMMARY:Sitzung der Gemeindevertretung
DESCRIPTION;ALTREP="data:text/html,%0A%3Cp%3EMehr%20Informationen%20unter
 %20%3Ca%20href%3D%22http%3A%2F%2Fwww.doppeldorf.de%22%3Ewww.doppeldorf.de
 %3C%2Fa%3E%3C%2Fp%3E%0A":Mehr Informationen unter www.doppeldorf.de
CLASS:PUBLIC
DTSTART;TZID=Europe/Berlin:20261015T193000
DTEND;TZID=Europe/Berlin:20261015T203000
DTSTAMP:20260421T132122
END:VEVENT
BEGIN:VEVENT
UID:15585b8571f6ff50aa8957c9b6f80eeb@xn--grnes-doppeldorf-kzb.de
URL;VALUE=URI:https://xn--grnes-doppeldorf-kzb.de/termine/sitzung-des-kre
 istages-7/
LOCATION:
SUMMARY:Sitzung des Kreistages
DESCRIPTION;ALTREP="data:text/html,%0A%3Cp%3EKreiskulturhaus%20Seelow%3C%
 2Fp%3E%0A":Kreiskulturhaus Seelow
CLASS:PUBLIC
DTSTART;TZID=Europe/Berlin:20261104T170000
DTEND;TZID=Europe/Berlin:20261104T180000
DTSTAMP:20260421T132122
END:VEVENT
BEGIN:VEVENT
UID:ba322bc1ad4a1371eff8e4b2cb4ab9ef@xn--grnes-doppeldorf-kzb.de
URL;VALUE=URI:https://xn--grnes-doppeldorf-kzb.de/termine/sitzung-des-ort
 sverbandes-22/
LOCATION:
SUMMARY:Sitzung des Ortsverbandes
DESCRIPTION;ALTREP="data:text/html,%0A%3Cp%3EOrt%20bitte%20%C3%BCber%20da
 s%20Kontaktformular%20erfragen%3C%2Fp%3E%0A":Ort bitte über das Kontaktf
 ormular erfragen
CLASS:PUBLIC
DTSTART;TZID=Europe/Berlin:20261116T190000
DTEND;TZID=Europe/Berlin:20261116T200000
DTSTAMP:20260421T132122
END:VEVENT
BEGIN:VEVENT
UID:770a3adb974de2461aecb321b35f87da@xn--grnes-doppeldorf-kzb.de
URL;VALUE=URI:https://xn--grnes-doppeldorf-kzb.de/termine/sitzung-der-gem
 eindevertretung-21/
LOCATION:
SUMMARY:Sitzung der Gemeindevertretung
DESCRIPTION;ALTREP="data:text/html,%0A%3Cp%3EMehr%20Informationen%20unter
 %20%3Ca%20href%3D%22http%3A%2F%2Fwww.doppeldorf.de%22%3Ewww.doppeldorf.de
 %3C%2Fa%3E%3C%2Fp%3E%0A":Mehr Informationen unter www.doppeldorf.de
CLASS:PUBLIC
DTSTART;TZID=Europe/Berlin:20261119T193000
DTEND;TZID=Europe/Berlin:20261119T203000
DTSTAMP:20260421T132122
END:VEVENT
BEGIN:VEVENT
UID:da318b80e3c829c43632e3f36d7bf727@xn--grnes-doppeldorf-kzb.de
URL;VALUE=URI:https://xn--grnes-doppeldorf-kzb.de/termine/sitzung-des-kre
 istages-8/
LOCATION:
SUMMARY:Sitzung des Kreistages
DESCRIPTION;ALTREP="data:text/html,%0A%3Cp%3EKreiskulturhaus%20Seelow%3C%
 2Fp%3E%0A":Kreiskulturhaus Seelow
CLASS:PUBLIC
DTSTART;TZID=Europe/Berlin:20261209T170000
DTEND;TZID=Europe/Berlin:20261209T180000
DTSTAMP:20260421T132122
END:VEVENT
BEGIN:VEVENT
UID:f4f279401a613c578c1ef98c054b6848@xn--grnes-doppeldorf-kzb.de
URL;VALUE=URI:https://xn--grnes-doppeldorf-kzb.de/termine/sitzung-des-ort
 sverbandes-23/
LOCATION:
SUMMARY:Sitzung des Ortsverbandes
DESCRIPTION;ALTREP="data:text/html,%0A%3Cp%3EOrt%20bitte%20%C3%BCber%20da
 s%20Kontaktformular%20erfragen%3C%2Fp%3E%0A":Ort bitte über das Kontaktf
 ormular erfragen
CLASS:PUBLIC
DTSTART;TZID=Europe/Berlin:20261214T190000
DTEND;TZID=Europe/Berlin:20261214T200000
DTSTAMP:20260421T132122
END:VEVENT
BEGIN:VEVENT
UID:0ed4e9250a29b18a5f37f19770ec25e0@xn--grnes-doppeldorf-kzb.de
URL;VALUE=URI:https://xn--grnes-doppeldorf-kzb.de/termine/sitzung-der-gem
 eindevertretung-22/
LOCATION:
SUMMARY:Sitzung der Gemeindevertretung
DESCRIPTION;ALTREP="data:text/html,%0A%3Cp%3EMehr%20Informationen%20unter
 %20%3Ca%20href%3D%22http%3A%2F%2Fwww.doppeldorf.de%22%3Ewww.doppeldorf.de
 %3C%2Fa%3E%3C%2Fp%3E%0A":Mehr Informationen unter www.doppeldorf.de
CLASS:PUBLIC
DTSTART;TZID=Europe/Berlin:20261217T193000
DTEND;TZID=Europe/Berlin:20261217T203000
DTSTAMP:20260421T132122
END:VEVENT
END:VCALENDAR